BEGIN:VCALENDAR
PRODID:-//MatrixMaxx//RemoteApi//EN
VERSION:2.0
METHOD:PUBLISH
CALSCALE:GREGORIAN
X-ORIGINAL-URL:http://nercomp.org/forms/meeting/Microsite/Islandora
BEGIN:VEVENT
SUMMARY:Islandora For All: ISLE Workshop
LAST-MODIFIED:20190522T130000Z
UID:ci_68641000000DA@matrixgroup.net
CLASS:PUBLIC
CREATED:20190522T130000Z
DTSTAMP:20190522T130000Z
DTSTART:20190522T130000Z
X-FUNAMBOL-ALLDAY:1
LOCATION:Union+College
DESCRIPTION:For full info see http://nercomp.org/forms/meeting/Microsite/Islandora\n
DTEND:20190522T190000Z
URL:http://nercomp.org/forms/meeting/Microsite/Islandora
END:VEVENT
END:VCALENDAR